BEGIN:VCALENDAR
VERSION:2.0
PRODID:icalendar-ruby
CALSCALE:GREGORIAN
METHOD:PUBLISH
BEGIN:VEVENT
DTSTAMP:20260421T115242Z
UID:35-222489@centralumcma.org
DTSTART:20260601T220000Z
DTEND:20260605T000000Z
CLASS:PUBLIC
CREATED:20260420T163745
DESCRIPTION:Get ready for an AMAZING adventure at #KidsConnect 2026 Vacatio
 n Bible School here at Central United Methodist Church! This summer\, kids
  will connect\, create\, and celebrate as they grow closer to Jesus and ma
 ke new friends along the way! We hope you will join us for exciting worshi
 p &amp\; songs\, interactive Bible stories\, creative art &amp\; science f
 un\, brain-boosting challenges\, and high-energy games!\nEach evening will
  be packed with laughter\, learning\, and unforgettable moments—all in a
  place where every child belongs! PLUS… the fun doesn’t stop here! Eac
 h night\, kids will be able to take home knowledge and activities to help 
 families stay connected and grow in faith together. \nOpen to children\, 
 preschool to 5th grade\n\nLet’s build friendships\, grow in faith\, and 
 create a world connected with God's promises! 
LAST-MODIFIED:20260420T163745
LOCATION:Fellowship Hall
SUMMARY:#KidsConnect 2026 Vacation Bible School
URL;VALUE=URI:https://www.centralumcma.org/events/kidsconnect-2026-vacation
 -bible-school/2026-06-01
ATTACH;FILENAME=VBS Connect.jpg;FMTTYPE=image/jpeg:https://dq5pwpg1q8ru0.cl
 oudfront.net/2026/04/20/20/37/45/1133d822-f48b-4395-9531-ce0e9ace7bf7/VBS%
 20Connect.jpg
END:VEVENT
END:VCALENDAR
